BEGIN:VCALENDAR
PRODID:-//HKUST Drupal Platform//EN
VERSION:2.0
BEGIN:VTIMEZONE
TZID:Asia/Hong_Kong
BEGIN:STANDARD
DTSTART:20071104T020000
TZOFFSETFROM:+0700
TZOFFSETTO:+0800
TZNAME:HKT
END:STANDARD
END:VTIMEZONE
BEGIN:VEVENT
DTSTAMP;TZID=Asia/Hong_Kong:20260420T152210
DTSTART;TZID=Asia/Hong_Kong:20191225T144500
DTEND;TZID=Asia/Hong_Kong:20191225T160000
LOCATION:Concert Hall, Hong Kong Cultural Centre, Tsim Sha Tsui
SUMMARY:Complimentary Tickets - Pro Arte Christmas Concert - Organ Symphony (Dec 25, Wed, 2:45pm)
UID:21972
END:VEVENT
END:VCALENDAR