BEGIN:VCALENDAR
PRODID:-//HKUST Drupal Platform//EN
VERSION:2.0
BEGIN:VTIMEZONE
TZID:Asia/Hong_Kong
BEGIN:STANDARD
DTSTART:20071104T020000
TZOFFSETFROM:+0700
TZOFFSETTO:+0800
TZNAME:HKT
END:STANDARD
END:VTIMEZONE
BEGIN:VEVENT
DTSTAMP;TZID=Asia/Hong_Kong:20260420T152311
DTSTART;TZID=Asia/Hong_Kong:20191228T154500
DTEND;TZID=Asia/Hong_Kong:20191228T170000
LOCATION:Yau Ma Tei Theatre, 6 Waterloo Road, Yau Ma Tei
SUMMARY:免費門票 - 「原汁原味帝女花」─《帝女花》之〈樹盟〉（2019年12月28/ 29日）
UID:21966
END:VEVENT
BEGIN:VEVENT
DTSTAMP;TZID=Asia/Hong_Kong:20260420T152311
DTSTART;TZID=Asia/Hong_Kong:20191229T154500
DTEND;TZID=Asia/Hong_Kong:20191229T170000
LOCATION:Yau Ma Tei Theatre, 6 Waterloo Road, Yau Ma Tei
SUMMARY:免費門票 - 「原汁原味帝女花」─《帝女花》之〈樹盟〉（2019年12月28/ 29日）
UID:21966
END:VEVENT
END:VCALENDAR