BEGIN:VCALENDAR
PRODID:-//HKUST Drupal Platform//EN
VERSION:2.0
BEGIN:VTIMEZONE
TZID:Asia/Hong_Kong
BEGIN:STANDARD
DTSTART:20071104T020000
TZOFFSETFROM:+0700
TZOFFSETTO:+0800
TZNAME:HKT
END:STANDARD
END:VTIMEZONE
BEGIN:VEVENT
DTSTAMP;TZID=Asia/Hong_Kong:20260420T152214
DTSTART;TZID=Asia/Hong_Kong:20200110T200000
DTEND;TZID=Asia/Hong_Kong:20200110T220000
LOCATION:Hong Kong Cultural Centre, Concert Hall, 10 Salisbury Road, Tsim Sha Tsui
SUMMARY:Complimentary Tickets - ELIM CHAN & MARTIN GRUBINGER: RHYTHM & DANCE (Jan 10, 2020 - 8 p.m.)
UID:21933
END:VEVENT
END:VCALENDAR