BEGIN:VCALENDAR
PRODID:-//HKUST Drupal Platform//EN
VERSION:2.0
BEGIN:VTIMEZONE
TZID:Asia/Hong_Kong
BEGIN:STANDARD
DTSTART:20071104T020000
TZOFFSETFROM:+0700
TZOFFSETTO:+0800
TZNAME:HKT
END:STANDARD
END:VTIMEZONE
BEGIN:VEVENT
DTSTAMP;TZID=Asia/Hong_Kong:20260420T152307
DTSTART;TZID=Asia/Hong_Kong:20200213T190000
DTEND;TZID=Asia/Hong_Kong:20200213T200000
LOCATION:Tsang Shiu Tim Art Hall, HKUST, Hong Kong University of Science and Technology, Hong Kong
SUMMARY:CANCELLED - Russian Piano Chamber Music Series - Recital 2: Transformation
UID:21883
END:VEVENT
END:VCALENDAR