BEGIN:VCALENDAR
PRODID:-//HKUST Drupal Platform//EN
VERSION:2.0
BEGIN:VTIMEZONE
TZID:Asia/Hong_Kong
BEGIN:STANDARD
DTSTART:20071104T020000
TZOFFSETFROM:+0700
TZOFFSETTO:+0800
TZNAME:HKT
END:STANDARD
END:VTIMEZONE
BEGIN:VEVENT
DTSTAMP;TZID=Asia/Hong_Kong:20260420T221927
DTSTART;TZID=Asia/Hong_Kong:20200429T110000
DTEND;TZID=Asia/Hong_Kong:20200429T120000
LOCATION:Online
SUMMARY:CHEM - PhD Student Seminar - First Row Transition Metal Mediated Reactions via Radical Mechanisms
UID:21710
END:VEVENT
END:VCALENDAR