BEGIN:VCALENDAR
PRODID:-//HKUST Drupal Platform//EN
VERSION:2.0
BEGIN:VTIMEZONE
TZID:Asia/Hong_Kong
BEGIN:STANDARD
DTSTART:20071104T020000
TZOFFSETFROM:+0700
TZOFFSETTO:+0800
TZNAME:HKT
END:STANDARD
END:VTIMEZONE
BEGIN:VEVENT
DTSTAMP;TZID=Asia/Hong_Kong:20260420T142914
DTSTART;TZID=Asia/Hong_Kong:20200514T100000
DTEND;TZID=Asia/Hong_Kong:20200514T113000
LOCATION:https://hkust.zoom.us/meeting/register/tJAvdeiprzIiG9Qk9Zo9exyyUbejPJ8fIpJ3
SUMMARY:Joint ECE and HK EDSSC Chapter Online Seminar Series - A Bottom-Up Approach towards Intelligent Magnetic Memory: from Materials Design and Devices Property to Application Performance
UID:21686
END:VEVENT
END:VCALENDAR