BEGIN:VCALENDAR
PRODID:-//HKUST Drupal Platform//EN
VERSION:2.0
BEGIN:VTIMEZONE
TZID:Asia/Hong_Kong
BEGIN:STANDARD
DTSTART:20071104T020000
TZOFFSETFROM:+0700
TZOFFSETTO:+0800
TZNAME:HKT
END:STANDARD
END:VTIMEZONE
BEGIN:VEVENT
DTSTAMP;TZID=Asia/Hong_Kong:20260420T194003
DTSTART;TZID=Asia/Hong_Kong:20200810T093000
DTEND;TZID=Asia/Hong_Kong:20200810T113000
LOCATION:Online
SUMMARY:PhD in Chemistry - Sustainable Semiconductor Materials and Nanostructures for Efficient and Stable Solar Water Splitting
UID:21331
END:VEVENT
END:VCALENDAR