BEGIN:VCALENDAR
PRODID:-//HKUST Drupal Platform//EN
VERSION:2.0
BEGIN:VTIMEZONE
TZID:Asia/Hong_Kong
BEGIN:STANDARD
DTSTART:20071104T020000
TZOFFSETFROM:+0700
TZOFFSETTO:+0800
TZNAME:HKT
END:STANDARD
END:VTIMEZONE
BEGIN:VEVENT
DTSTAMP;TZID=Asia/Hong_Kong:20260420T233445
DTSTART;TZID=Asia/Hong_Kong:20200812T140000
DTEND;TZID=Asia/Hong_Kong:20200812T160000
LOCATION:Online
SUMMARY:MPhil in Chemistry - Performance Enhanced Electrochemical Detection of Heavy Metal Ions by Graphene/Noble Nanoparticles Modified Electrodes
UID:21329
END:VEVENT
END:VCALENDAR