BEGIN:VCALENDAR
PRODID:-//HKUST Drupal Platform//EN
VERSION:2.0
BEGIN:VTIMEZONE
TZID:Asia/Hong_Kong
BEGIN:STANDARD
DTSTART:20071104T020000
TZOFFSETFROM:+0700
TZOFFSETTO:+0800
TZNAME:HKT
END:STANDARD
END:VTIMEZONE
BEGIN:VEVENT
DTSTAMP;TZID=Asia/Hong_Kong:20260421T005059
DTSTART;TZID=Asia/Hong_Kong:20200821T143000
DTEND;TZID=Asia/Hong_Kong:20200821T163000
LOCATION:Online
SUMMARY:PhD in Chemistry - Total Synthesis of the Proposed Structure of Iriomoteolide-13a
UID:21299
END:VEVENT
END:VCALENDAR