BEGIN:VCALENDAR
PRODID:-//HKUST Drupal Platform//EN
VERSION:2.0
BEGIN:VTIMEZONE
TZID:Asia/Hong_Kong
BEGIN:STANDARD
DTSTART:20071104T020000
TZOFFSETFROM:+0700
TZOFFSETTO:+0800
TZNAME:HKT
END:STANDARD
END:VTIMEZONE
BEGIN:VEVENT
DTSTAMP;TZID=Asia/Hong_Kong:20260420T174229
DTSTART;TZID=Asia/Hong_Kong:20180329T074500
DTEND;TZID=Asia/Hong_Kong:20180329T213000
LOCATION:C101, UG Hall VII
SUMMARY:Arts a-LIVE Ukulele Workshop - Lesson 1
UID:14643
END:VEVENT
END:VCALENDAR