BEGIN:VCALENDAR
PRODID:-//HKUST Drupal Platform//EN
VERSION:2.0
BEGIN:VTIMEZONE
TZID:Asia/Hong_Kong
BEGIN:STANDARD
DTSTART:20071104T020000
TZOFFSETFROM:+0700
TZOFFSETTO:+0800
TZNAME:HKT
END:STANDARD
END:VTIMEZONE
BEGIN:VEVENT
DTSTAMP;TZID=Asia/Hong_Kong:20260423T141836
DTSTART;TZID=Asia/Hong_Kong:20260422T000000
DTEND;TZID=Asia/Hong_Kong:20260429T235900
SUMMARY:UTOP3201 x HMAW1905B STEAM Workshops
UID:47035
END:VEVENT
END:VCALENDAR