BEGIN:VCALENDAR
PRODID:-//HKUST Drupal Platform//EN
VERSION:2.0
BEGIN:VTIMEZONE
TZID:Asia/Hong_Kong
BEGIN:STANDARD
DTSTART:20071104T020000
TZOFFSETFROM:+0700
TZOFFSETTO:+0800
TZNAME:HKT
END:STANDARD
END:VTIMEZONE
BEGIN:VEVENT
DTSTAMP;TZID=Asia/Hong_Kong:20260420T185033
DTSTART;TZID=Asia/Hong_Kong:20260422T113000
DTEND;TZID=Asia/Hong_Kong:20260422T180000
LOCATION:Karen Lee Student Mentoring Center, G/F, Lee Shau Kee Business Building
SUMMARY:35 for Life - 35 for Life - Blood Donation (22 Apr)
UID:47018
END:VEVENT
END:VCALENDAR