BEGIN:VCALENDAR
PRODID:-//HKUST Drupal Platform//EN
VERSION:2.0
BEGIN:VTIMEZONE
TZID:Asia/Hong_Kong
BEGIN:STANDARD
DTSTART:20071104T020000
TZOFFSETFROM:+0700
TZOFFSETTO:+0800
TZNAME:HKT
END:STANDARD
END:VTIMEZONE
BEGIN:VEVENT
DTSTAMP;TZID=Asia/Hong_Kong:20260420T214116
DTSTART;TZID=Asia/Hong_Kong:20260430T133000
DTEND;TZID=Asia/Hong_Kong:20260430T160000
LOCATION:UG Hall II Common Room 4, HKUST Campus
SUMMARY:Sunshine Action Fortune Bag Packing Event
UID:47015
END:VEVENT
END:VCALENDAR