BEGIN:VCALENDAR
PRODID:-//HKUST Drupal Platform//EN
VERSION:2.0
BEGIN:VTIMEZONE
TZID:Asia/Hong_Kong
BEGIN:STANDARD
DTSTART:20071104T020000
TZOFFSETFROM:+0700
TZOFFSETTO:+0800
TZNAME:HKT
END:STANDARD
END:VTIMEZONE
BEGIN:VEVENT
DTSTAMP;TZID=Asia/Hong_Kong:20260420T053325
DTSTART;TZID=Asia/Hong_Kong:20260505T150000
DTEND;TZID=Asia/Hong_Kong:20260505T160000
LOCATION:IAS4042, 4/F, Lo Ka Chung Building, Lee Shau Kee Campus, HKUST
SUMMARY:Fundamental Physics Seminar Series - Constraints on Symmetric Dark Matter from Neutron Star Capture and Collapse
UID:46993
END:VEVENT
END:VCALENDAR