BEGIN:VCALENDAR
PRODID:-//HKUST Drupal Platform//EN
VERSION:2.0
BEGIN:VTIMEZONE
TZID:Asia/Hong_Kong
BEGIN:STANDARD
DTSTART:20071104T020000
TZOFFSETFROM:+0700
TZOFFSETTO:+0800
TZNAME:HKT
END:STANDARD
END:VTIMEZONE
BEGIN:VEVENT
DTSTAMP;TZID=Asia/Hong_Kong:20260420T111959
DTSTART;TZID=Asia/Hong_Kong:20260526T140000
DTEND;TZID=Asia/Hong_Kong:20260526T170000
LOCATION: , HKUST
SUMMARY:PHD in Physics - Emergent Electronic Transport Phenomena in Two-Dimensional Quantum Materials
UID:46987
END:VEVENT
END:VCALENDAR