BEGIN:VCALENDAR
PRODID:-//HKUST Drupal Platform//EN
VERSION:2.0
BEGIN:VTIMEZONE
TZID:Asia/Hong_Kong
BEGIN:STANDARD
DTSTART:20071104T020000
TZOFFSETFROM:+0700
TZOFFSETTO:+0800
TZNAME:HKT
END:STANDARD
END:VTIMEZONE
BEGIN:VEVENT
DTSTAMP;TZID=Asia/Hong_Kong:20260420T204359
DTSTART;TZID=Asia/Hong_Kong:20260515T160000
DTEND;TZID=Asia/Hong_Kong:20260515T190000
LOCATION:Room 2404 (Lifts 17-18), 2/F Academic Building, HKUST
SUMMARY:PHD in Envrl Sci, Policy & Mgmt - Circular Economy of End-of-life Electronics: Case Analysis of Material Flow, Socio-economic and Environmental Impacts in Hong Kong
UID:46962
END:VEVENT
END:VCALENDAR