BEGIN:VCALENDAR
PRODID:-//HKUST Drupal Platform//EN
VERSION:2.0
BEGIN:VTIMEZONE
TZID:Asia/Hong_Kong
BEGIN:STANDARD
DTSTART:20071104T020000
TZOFFSETFROM:+0700
TZOFFSETTO:+0800
TZNAME:HKT
END:STANDARD
END:VTIMEZONE
BEGIN:VEVENT
DTSTAMP;TZID=Asia/Hong_Kong:20260425T113131
DTSTART;TZID=Asia/Hong_Kong:20260430T143000
DTEND;TZID=Asia/Hong_Kong:20260430T160000
LOCATION:Room 2408 (Lifts no. 17-18),, Academic Building, HKUST
SUMMARY:MPhil Thesis Presentation - The Construction of a Valley Society: Ecology, Political Power, and Communal Ties in the Dulong Valley of South Himalaya
UID:46957
END:VEVENT
END:VCALENDAR