BEGIN:VCALENDAR
PRODID:-//HKUST Drupal Platform//EN
VERSION:2.0
BEGIN:VTIMEZONE
TZID:Asia/Hong_Kong
BEGIN:STANDARD
DTSTART:20071104T020000
TZOFFSETFROM:+0700
TZOFFSETTO:+0800
TZNAME:HKT
END:STANDARD
END:VTIMEZONE
BEGIN:VEVENT
DTSTAMP;TZID=Asia/Hong_Kong:20260420T204400
DTSTART;TZID=Asia/Hong_Kong:20260507T144500
DTEND;TZID=Asia/Hong_Kong:20260507T174500
LOCATION:Room 2611 (Lifts 31-32), 2/F Academic Building, HKUST
SUMMARY:PHD in Finance - The New Transparency Trap: Machine Learning and the Reverse-Engineering of Strategies
UID:46936
END:VEVENT
END:VCALENDAR