BEGIN:VCALENDAR
PRODID:-//HKUST Drupal Platform//EN
VERSION:2.0
BEGIN:VTIMEZONE
TZID:Asia/Hong_Kong
BEGIN:STANDARD
DTSTART:20071104T020000
TZOFFSETFROM:+0700
TZOFFSETTO:+0800
TZNAME:HKT
END:STANDARD
END:VTIMEZONE
BEGIN:VEVENT
DTSTAMP;TZID=Asia/Hong_Kong:20260424T081657
DTSTART;TZID=Asia/Hong_Kong:20260516T100000
DTEND;TZID=Asia/Hong_Kong:20260516T210000
LOCATION:Shaw Auditorium
SUMMARY:2nd HKUST AI Film Festival   
UID:46915
END:VEVENT
BEGIN:VEVENT
DTSTAMP;TZID=Asia/Hong_Kong:20260424T081657
DTSTART;TZID=Asia/Hong_Kong:20260517T100000
DTEND;TZID=Asia/Hong_Kong:20260517T210000
LOCATION:Shaw Auditorium
SUMMARY:2nd HKUST AI Film Festival   
UID:46915
END:VEVENT
END:VCALENDAR