BEGIN:VCALENDAR
PRODID:-//HKUST Drupal Platform//EN
VERSION:2.0
BEGIN:VTIMEZONE
TZID:Asia/Hong_Kong
BEGIN:STANDARD
DTSTART:20071104T020000
TZOFFSETFROM:+0700
TZOFFSETTO:+0800
TZNAME:HKT
END:STANDARD
END:VTIMEZONE
BEGIN:VEVENT
DTSTAMP;TZID=Asia/Hong_Kong:20260425T185554
DTSTART;TZID=Asia/Hong_Kong:20260429T180000
DTEND;TZID=Asia/Hong_Kong:20260429T201500
LOCATION:曾肇添展藝廳, 香港科技大學曾肇添展藝廳
SUMMARY:科大鄰居的三百載傳承 曾翠珊電影放映及分享
UID:46869
END:VEVENT
END:VCALENDAR