BEGIN:VCALENDAR
PRODID:-//HKUST Drupal Platform//EN
VERSION:2.0
BEGIN:VTIMEZONE
TZID:Asia/Hong_Kong
BEGIN:STANDARD
DTSTART:20071104T020000
TZOFFSETFROM:+0700
TZOFFSETTO:+0800
TZNAME:HKT
END:STANDARD
END:VTIMEZONE
BEGIN:VEVENT
DTSTAMP;TZID=Asia/Hong_Kong:20260425T120328
DTSTART;TZID=Asia/Hong_Kong:20260425T100000
DTEND;TZID=Asia/Hong_Kong:20260425T124500
LOCATION:Lecture Theatre C, Lecture Theatre C, HKUST, Clear Water Bay
SUMMARY:HKUST RMBI Symposium 2026
UID:46834
END:VEVENT
END:VCALENDAR