BEGIN:VCALENDAR
PRODID:-//HKUST Drupal Platform//EN
VERSION:2.0
BEGIN:VTIMEZONE
TZID:Asia/Hong_Kong
BEGIN:STANDARD
DTSTART:20071104T020000
TZOFFSETFROM:+0700
TZOFFSETTO:+0800
TZNAME:HKT
END:STANDARD
END:VTIMEZONE
BEGIN:VEVENT
DTSTAMP;TZID=Asia/Hong_Kong:20260420T132907
DTSTART;TZID=Asia/Hong_Kong:20260428T143000
DTEND;TZID=Asia/Hong_Kong:20260428T174500
LOCATION:Kaisa Group Lecture Theater, The HKUST Jockey Club Institute for Advanced Study (IAS), HKUST Campus
SUMMARY:HKUST Industry Engagement Day +  - AI + Medicine: The Future of Intelligence Healthcare
UID:46813
END:VEVENT
END:VCALENDAR