BEGIN:VCALENDAR
PRODID:-//HKUST Drupal Platform//EN
VERSION:2.0
BEGIN:VTIMEZONE
TZID:Asia/Hong_Kong
BEGIN:STANDARD
DTSTART:20071104T020000
TZOFFSETFROM:+0700
TZOFFSETTO:+0800
TZNAME:HKT
END:STANDARD
END:VTIMEZONE
BEGIN:VEVENT
DTSTAMP;TZID=Asia/Hong_Kong:20260420T165423
DTSTART;TZID=Asia/Hong_Kong:20260305T150000
DTEND;TZID=Asia/Hong_Kong:20260305T180000
LOCATION:學術大樓2502室, 香港科技大學學術大樓2502室(25-26號升降機)
SUMMARY:Program on Chinese Creative Writing / 中國文學創作研究專題 - 戀物
UID:46596
END:VEVENT
END:VCALENDAR