BEGIN:VCALENDAR
PRODID:-//HKUST Drupal Platform//EN
VERSION:2.0
BEGIN:VTIMEZONE
TZID:Asia/Hong_Kong
BEGIN:STANDARD
DTSTART:20071104T020000
TZOFFSETFROM:+0700
TZOFFSETTO:+0800
TZNAME:HKT
END:STANDARD
END:VTIMEZONE
BEGIN:VEVENT
DTSTAMP;TZID=Asia/Hong_Kong:20260420T155157
DTSTART;TZID=Asia/Hong_Kong:20260129T100000
DTEND;TZID=Asia/Hong_Kong:20260129T130000
LOCATION:Room 501, 5/F,  W2-C8, Academic Building, HKUST
SUMMARY:PHD in Individual Interdisci Prog - On the Viability of Mobility-as-a-Service Integration: Equilibrium Analyses and Empirical Evidence
UID:46326
END:VEVENT
END:VCALENDAR