BEGIN:VCALENDAR
PRODID:-//HKUST Drupal Platform//EN
VERSION:2.0
BEGIN:VTIMEZONE
TZID:Asia/Hong_Kong
BEGIN:STANDARD
DTSTART:20071104T020000
TZOFFSETFROM:+0700
TZOFFSETTO:+0800
TZNAME:HKT
END:STANDARD
END:VTIMEZONE
BEGIN:VEVENT
DTSTAMP;TZID=Asia/Hong_Kong:20260421T004707
DTSTART;TZID=Asia/Hong_Kong:20260121T133000
DTEND;TZID=Asia/Hong_Kong:20260121T163000
LOCATION:Room 3494 (capacity 20, lift 25/26), HKUST
SUMMARY:PHD in Individual Interdisci Prog - Bridging Monte Carlo Sampling and Diffusion Model Inference
UID:46258
END:VEVENT
END:VCALENDAR