BEGIN:VCALENDAR
PRODID:-//HKUST Drupal Platform//EN
VERSION:2.0
BEGIN:VTIMEZONE
TZID:Asia/Hong_Kong
BEGIN:STANDARD
DTSTART:20071104T020000
TZOFFSETFROM:+0700
TZOFFSETTO:+0800
TZNAME:HKT
END:STANDARD
END:VTIMEZONE
BEGIN:VEVENT
DTSTAMP;TZID=Asia/Hong_Kong:20260420T185632
DTSTART;TZID=Asia/Hong_Kong:20260127T143000
DTEND;TZID=Asia/Hong_Kong:20260127T173000
LOCATION:Room 5506 (Lifts 25-26), 5/F Academic Building, HKUST
SUMMARY:PHD in Marine Environmental Sci - Investigating Dynamical Responses of Diffusive-Convection Staircases to Subsurface Eddies in the Arctic Ocean
UID:46099
END:VEVENT
END:VCALENDAR