BEGIN:VCALENDAR
PRODID:-//HKUST Drupal Platform//EN
VERSION:2.0
BEGIN:VTIMEZONE
TZID:Asia/Hong_Kong
BEGIN:STANDARD
DTSTART:20071104T020000
TZOFFSETFROM:+0700
TZOFFSETTO:+0800
TZNAME:HKT
END:STANDARD
END:VTIMEZONE
BEGIN:VEVENT
DTSTAMP;TZID=Asia/Hong_Kong:20260420T150501
DTSTART;TZID=Asia/Hong_Kong:20260108T140000
DTEND;TZID=Asia/Hong_Kong:20260108T170000
LOCATION:Zoom: 956 3752 6814, Password: 688349; Onsite: W1-222, Guangzhou Campus, HKUST
SUMMARY:PHD in Individual Interdisci Prog - Application of Slow-released Materials in Wastewater Treatment for Surface Water Bodies
UID:46083
END:VEVENT
END:VCALENDAR