BEGIN:VCALENDAR
PRODID:-//HKUST Drupal Platform//EN
VERSION:2.0
BEGIN:VTIMEZONE
TZID:Asia/Hong_Kong
BEGIN:STANDARD
DTSTART:20071104T020000
TZOFFSETFROM:+0700
TZOFFSETTO:+0800
TZNAME:HKT
END:STANDARD
END:VTIMEZONE
BEGIN:VEVENT
DTSTAMP;TZID=Asia/Hong_Kong:20260420T192605
DTSTART;TZID=Asia/Hong_Kong:20260119T100000
DTEND;TZID=Asia/Hong_Kong:20260119T130000
LOCATION:Room 4504 (Lifts 25-26), 4/F Academic Building, HKUST
SUMMARY:MPhil in Chemistry - Investigation of the Role of Gut Microbiota in the Detoxification of Aristolochic Acids
UID:46033
END:VEVENT
END:VCALENDAR