BEGIN:VCALENDAR
PRODID:-//HKUST Drupal Platform//EN
VERSION:2.0
BEGIN:VTIMEZONE
TZID:Asia/Hong_Kong
BEGIN:STANDARD
DTSTART:20071104T020000
TZOFFSETFROM:+0700
TZOFFSETTO:+0800
TZNAME:HKT
END:STANDARD
END:VTIMEZONE
BEGIN:VEVENT
DTSTAMP;TZID=Asia/Hong_Kong:20260420T214700
DTSTART;TZID=Asia/Hong_Kong:20260106T100000
DTEND;TZID=Asia/Hong_Kong:20260106T130000
LOCATION:Room 2304 (Lifts 17-18), 2/F Academic Building, HKUST
SUMMARY:PHD in Atmospheric Envrl Science - PM₂.₅ Nitrate and Other Water‑Soluble Inorganic Ions: Measurement Reliability, Long‑Term Trends, and Precursor Sensitivity in the Pearl River Delta and beyond
UID:46032
END:VEVENT
END:VCALENDAR