BEGIN:VCALENDAR
PRODID:-//HKUST Drupal Platform//EN
VERSION:2.0
BEGIN:VTIMEZONE
TZID:Asia/Hong_Kong
BEGIN:STANDARD
DTSTART:20071104T020000
TZOFFSETFROM:+0700
TZOFFSETTO:+0800
TZNAME:HKT
END:STANDARD
END:VTIMEZONE
BEGIN:VEVENT
DTSTAMP;TZID=Asia/Hong_Kong:20260420T193900
DTSTART;TZID=Asia/Hong_Kong:20260113T100000
DTEND;TZID=Asia/Hong_Kong:20260113T130000
LOCATION:Room 5560 (Lifts 27-28), HKUST
SUMMARY:MPhil in Bioengineering - Remote vital sign estimation using attention mechanism: a multi-ROI perspective
UID:46013
END:VEVENT
END:VCALENDAR