BEGIN:VCALENDAR
PRODID:-//HKUST Drupal Platform//EN
VERSION:2.0
BEGIN:VTIMEZONE
TZID:Asia/Hong_Kong
BEGIN:STANDARD
DTSTART:20071104T020000
TZOFFSETFROM:+0700
TZOFFSETTO:+0800
TZNAME:HKT
END:STANDARD
END:VTIMEZONE
BEGIN:VEVENT
DTSTAMP;TZID=Asia/Hong_Kong:20260421T004630
DTSTART;TZID=Asia/Hong_Kong:20251217T100000
DTEND;TZID=Asia/Hong_Kong:20251217T130000
LOCATION:E2-301, HKUST(GZ) / Zoom ID: 929 2394 3024, Passcode: dsa2025, HKUST
SUMMARY:PHD in Individual Interdisci Prog - Towards Data-Efficient Neural Network Training
UID:46012
END:VEVENT
END:VCALENDAR