BEGIN:VCALENDAR
PRODID:-//HKUST Drupal Platform//EN
VERSION:2.0
BEGIN:VTIMEZONE
TZID:Asia/Hong_Kong
BEGIN:STANDARD
DTSTART:20071104T020000
TZOFFSETFROM:+0700
TZOFFSETTO:+0800
TZNAME:HKT
END:STANDARD
END:VTIMEZONE
BEGIN:VEVENT
DTSTAMP;TZID=Asia/Hong_Kong:20260421T004630
DTSTART;TZID=Asia/Hong_Kong:20251217T103000
DTEND;TZID=Asia/Hong_Kong:20251217T133000
LOCATION:E1-319, HKUST(GZ) /  Zoom ID: 972 1431 6597, Passcode: dsa2025, HKUST
SUMMARY:PHD in Individual Interdisci Prog - Neural Information Retrieval for AI and Beyond
UID:45937
END:VEVENT
END:VCALENDAR