BEGIN:VCALENDAR
PRODID:-//HKUST Drupal Platform//EN
VERSION:2.0
BEGIN:VTIMEZONE
TZID:Asia/Hong_Kong
BEGIN:STANDARD
DTSTART:20071104T020000
TZOFFSETFROM:+0700
TZOFFSETTO:+0800
TZNAME:HKT
END:STANDARD
END:VTIMEZONE
BEGIN:VEVENT
DTSTAMP;TZID=Asia/Hong_Kong:20260420T193954
DTSTART;TZID=Asia/Hong_Kong:20260109T140000
DTEND;TZID=Asia/Hong_Kong:20260109T170000
LOCATION:Room 3494 (Lifts 27-28), 3/F Academic Building, HKUST
SUMMARY:MPhil in Computer Science & Engg - Imperceptible Fairness in Top-k Ranking Algorithms
UID:45935
END:VEVENT
END:VCALENDAR