BEGIN:VCALENDAR
PRODID:-//HKUST Drupal Platform//EN
VERSION:2.0
BEGIN:VTIMEZONE
TZID:Asia/Hong_Kong
BEGIN:STANDARD
DTSTART:20071104T020000
TZOFFSETFROM:+0700
TZOFFSETTO:+0800
TZNAME:HKT
END:STANDARD
END:VTIMEZONE
BEGIN:VEVENT
DTSTAMP;TZID=Asia/Hong_Kong:20260420T193900
DTSTART;TZID=Asia/Hong_Kong:20251203T100000
DTEND;TZID=Asia/Hong_Kong:20251203T130000
LOCATION:Room 4504, Academic Building, HKUST
SUMMARY:PHD in Individual Interdisci Prog - Optimizing Sustainable Mobility and Energy Systems: Infrastructure Planning and Policy Design
UID:45903
END:VEVENT
END:VCALENDAR