BEGIN:VCALENDAR
PRODID:-//HKUST Drupal Platform//EN
VERSION:2.0
BEGIN:VTIMEZONE
TZID:Asia/Hong_Kong
BEGIN:STANDARD
DTSTART:20071104T020000
TZOFFSETFROM:+0700
TZOFFSETTO:+0800
TZNAME:HKT
END:STANDARD
END:VTIMEZONE
BEGIN:VEVENT
DTSTAMP;TZID=Asia/Hong_Kong:20260420T221008
DTSTART;TZID=Asia/Hong_Kong:20251126T143000
DTEND;TZID=Asia/Hong_Kong:20251126T173000
LOCATION:Room E1-319, HKUSTGZ Campus, HKUST
SUMMARY:PHD in Individual Interdisci Prog - AI-Enhanced Ballistocardiography for Human-centric Sensing Systems
UID:45870
END:VEVENT
END:VCALENDAR