BEGIN:VCALENDAR
PRODID:-//HKUST Drupal Platform//EN
VERSION:2.0
BEGIN:VTIMEZONE
TZID:Asia/Hong_Kong
BEGIN:STANDARD
DTSTART:20071104T020000
TZOFFSETFROM:+0700
TZOFFSETTO:+0800
TZNAME:HKT
END:STANDARD
END:VTIMEZONE
BEGIN:VEVENT
DTSTAMP;TZID=Asia/Hong_Kong:20260420T192604
DTSTART;TZID=Asia/Hong_Kong:20251217T150000
DTEND;TZID=Asia/Hong_Kong:20251217T180000
LOCATION:E1-319, HKUST(GZ) / Zoom ID: 938 6904 9497, Passcode: dsa2025, HKUST
SUMMARY:PHD in Individual Interdisci Prog - A Study on Robustness, Adaptation, and Generalization for Visual and Multimodal Learning
UID:45869
END:VEVENT
END:VCALENDAR