BEGIN:VCALENDAR
PRODID:-//HKUST Drupal Platform//EN
VERSION:2.0
BEGIN:VTIMEZONE
TZID:Asia/Hong_Kong
BEGIN:STANDARD
DTSTART:20071104T020000
TZOFFSETFROM:+0700
TZOFFSETTO:+0800
TZNAME:HKT
END:STANDARD
END:VTIMEZONE
BEGIN:VEVENT
DTSTAMP;TZID=Asia/Hong_Kong:20260420T193950
DTSTART;TZID=Asia/Hong_Kong:20260114T100000
DTEND;TZID=Asia/Hong_Kong:20260114T130000
LOCATION:Room 5560 (Lifts 27-28), HKUST
SUMMARY:PHD in Chem & Biomolecular Engg - Design and Optimization of Copper-Based Conductive Inks and Functional Conductive Thin Films for Printed Electronic Applications
UID:45844
END:VEVENT
END:VCALENDAR