BEGIN:VCALENDAR
PRODID:-//HKUST Drupal Platform//EN
VERSION:2.0
BEGIN:VTIMEZONE
TZID:Asia/Hong_Kong
BEGIN:STANDARD
DTSTART:20071104T020000
TZOFFSETFROM:+0700
TZOFFSETTO:+0800
TZNAME:HKT
END:STANDARD
END:VTIMEZONE
BEGIN:VEVENT
DTSTAMP;TZID=Asia/Hong_Kong:20260420T155158
DTSTART;TZID=Asia/Hong_Kong:20251212T100000
DTEND;TZID=Asia/Hong_Kong:20251212T130000
LOCATION:Room 2128C (Lift 19), 2/F Academic Building, HKUST
SUMMARY:PHD in Physics - Novel Phases in Quantum Materials Induced by Topology, Geometry, and Superconductivity
UID:45805
END:VEVENT
END:VCALENDAR