BEGIN:VCALENDAR
PRODID:-//HKUST Drupal Platform//EN
VERSION:2.0
BEGIN:VTIMEZONE
TZID:Asia/Hong_Kong
BEGIN:STANDARD
DTSTART:20071104T020000
TZOFFSETFROM:+0700
TZOFFSETTO:+0800
TZNAME:HKT
END:STANDARD
END:VTIMEZONE
BEGIN:VEVENT
DTSTAMP;TZID=Asia/Hong_Kong:20260420T234103
DTSTART;TZID=Asia/Hong_Kong:20251218T090000
DTEND;TZID=Asia/Hong_Kong:20251218T120000
LOCATION:Room 1409 (Lifts 25-26), 1/F Academic Building, HKUST
SUMMARY:PHD in Chemistry - Linking Transition Metal Concentration and Oxidative Potential of PM2.5 by Acellular Assays: Reaction Mechanisms and Metal-Organic Mixing Effects
UID:45804
END:VEVENT
END:VCALENDAR