BEGIN:VCALENDAR
PRODID:-//HKUST Drupal Platform//EN
VERSION:2.0
BEGIN:VTIMEZONE
TZID:Asia/Hong_Kong
BEGIN:STANDARD
DTSTART:20071104T020000
TZOFFSETFROM:+0700
TZOFFSETTO:+0800
TZNAME:HKT
END:STANDARD
END:VTIMEZONE
BEGIN:VEVENT
DTSTAMP;TZID=Asia/Hong_Kong:20260420T185638
DTSTART;TZID=Asia/Hong_Kong:20251218T110000
DTEND;TZID=Asia/Hong_Kong:20251218T140000
LOCATION:Room 4579 (Lifts 27-28), 4/F Academic Building, HKUST
SUMMARY:PHD in Atmospheric Envrl Science - Assessing the Oxidative Potential of Atmospheric Particulate Matter by Dithiothreitol (DTT) Assay: Mechanistic Insight, Instrument Development and Applications of Real-Time Monitoring
UID:45785
END:VEVENT
END:VCALENDAR