BEGIN:VCALENDAR
PRODID:-//HKUST Drupal Platform//EN
VERSION:2.0
BEGIN:VTIMEZONE
TZID:Asia/Hong_Kong
BEGIN:STANDARD
DTSTART:20071104T020000
TZOFFSETFROM:+0700
TZOFFSETTO:+0800
TZNAME:HKT
END:STANDARD
END:VTIMEZONE
BEGIN:VEVENT
DTSTAMP;TZID=Asia/Hong_Kong:20260420T153659
DTSTART;TZID=Asia/Hong_Kong:20251113T163000
DTEND;TZID=Asia/Hong_Kong:20251113T174500
LOCATION:G/F Gallery, Library
SUMMARY:Opening Ceremony of Imagining Hong Kong—Four Visions of Island Landscape in Ink and Color  觀想香港：四種島嶼山水的墨•色想像 展覽開幕禮
UID:45775
END:VEVENT
END:VCALENDAR