BEGIN:VCALENDAR
PRODID:-//HKUST Drupal Platform//EN
VERSION:2.0
BEGIN:VTIMEZONE
TZID:Asia/Hong_Kong
BEGIN:STANDARD
DTSTART:20071104T020000
TZOFFSETFROM:+0700
TZOFFSETTO:+0800
TZNAME:HKT
END:STANDARD
END:VTIMEZONE
BEGIN:VEVENT
DTSTAMP;TZID=Asia/Hong_Kong:20260420T193951
DTSTART;TZID=Asia/Hong_Kong:20251124T150000
DTEND;TZID=Asia/Hong_Kong:20251124T180000
LOCATION:Room 2550 + Room 2551 (Lifts 27-28), 2/F Academic Building; https://hkust.zoom.us/j/96745510387?pwd=QeAC2ybULzBytNxm7qwC0YC4KUShAL.1 (Meeting ID: 967 4551 0387 Passcode: 326124), HKUST
SUMMARY:PHD in Mechanical Engineering - Ion Transport in Bi-continuous Nanoporous Metals
UID:45628
END:VEVENT
END:VCALENDAR