BEGIN:VCALENDAR
PRODID:-//HKUST Drupal Platform//EN
VERSION:2.0
BEGIN:VTIMEZONE
TZID:Asia/Hong_Kong
BEGIN:STANDARD
DTSTART:20071104T020000
TZOFFSETFROM:+0700
TZOFFSETTO:+0800
TZNAME:HKT
END:STANDARD
END:VTIMEZONE
BEGIN:VEVENT
DTSTAMP;TZID=Asia/Hong_Kong:20260425T055324
DTSTART;TZID=Asia/Hong_Kong:20251109T150000
DTEND;TZID=Asia/Hong_Kong:20251109T163000
LOCATION:Main Hall, Shaw Auditorium
SUMMARY:HKGNA Music Festival 2025 Opening Concert: Violinist Timothy Chooi with Pianist Zhang Yue featuring HKGNA Young Virtuosi  香港新世代藝術協會音樂節2025 開幕音樂會 :  小提琴家 Timothy Chooi與鋼琴家 張越 及 HKGNA音樂菁英
UID:45616
END:VEVENT
END:VCALENDAR