BEGIN:VCALENDAR
PRODID:-//HKUST Drupal Platform//EN
VERSION:2.0
BEGIN:VTIMEZONE
TZID:Asia/Hong_Kong
BEGIN:STANDARD
DTSTART:20071104T020000
TZOFFSETFROM:+0700
TZOFFSETTO:+0800
TZNAME:HKT
END:STANDARD
END:VTIMEZONE
BEGIN:VEVENT
DTSTAMP;TZID=Asia/Hong_Kong:20260420T192603
DTSTART;TZID=Asia/Hong_Kong:20251211T140000
DTEND;TZID=Asia/Hong_Kong:20251211T170000
LOCATION:Room 4472 (Lifts 25-26), 4/F Academic Building, HKUST
SUMMARY:MPhil in Electronic & Comp Engg - A Sample-to-answer System for the Multiplexed Detection of Sepsis-associated Pathogens Based on Reagent-free Purification of Nucleic Acids and Colorimetric LAMP
UID:45589
END:VEVENT
END:VCALENDAR