BEGIN:VCALENDAR
PRODID:-//HKUST Drupal Platform//EN
VERSION:2.0
BEGIN:VTIMEZONE
TZID:Asia/Hong_Kong
BEGIN:STANDARD
DTSTART:20071104T020000
TZOFFSETFROM:+0700
TZOFFSETTO:+0800
TZNAME:HKT
END:STANDARD
END:VTIMEZONE
BEGIN:VEVENT
DTSTAMP;TZID=Asia/Hong_Kong:20260421T011200
DTSTART;TZID=Asia/Hong_Kong:20251021T100000
DTEND;TZID=Asia/Hong_Kong:20251021T130000
LOCATION:Room 4472 (Lifts 25-26), HKUST
SUMMARY:PHD in Chem & Biomolecular Engg - Development and Optimization of Photocatalytic Ozonation for the Degradation of Bisphenol A in Water Using LDHs-Based Photocatalysts Under Visible Light Conditions
UID:45476
END:VEVENT
END:VCALENDAR