BEGIN:VCALENDAR
PRODID:-//HKUST Drupal Platform//EN
VERSION:2.0
BEGIN:VTIMEZONE
TZID:Asia/Hong_Kong
BEGIN:STANDARD
DTSTART:20071104T020000
TZOFFSETFROM:+0700
TZOFFSETTO:+0800
TZNAME:HKT
END:STANDARD
END:VTIMEZONE
BEGIN:VEVENT
DTSTAMP;TZID=Asia/Hong_Kong:20260420T185635
DTSTART;TZID=Asia/Hong_Kong:20251021T000000
DTEND;TZID=Asia/Hong_Kong:20251023T235900
LOCATION:Art Hall, LTA & LTB and Around Campus 
SUMMARY:Living Lab Week 2025
UID:45437
END:VEVENT
END:VCALENDAR