BEGIN:VCALENDAR
PRODID:-//HKUST Drupal Platform//EN
VERSION:2.0
BEGIN:VTIMEZONE
TZID:Asia/Hong_Kong
BEGIN:STANDARD
DTSTART:20071104T020000
TZOFFSETFROM:+0700
TZOFFSETTO:+0800
TZNAME:HKT
END:STANDARD
END:VTIMEZONE
BEGIN:VEVENT
DTSTAMP;TZID=Asia/Hong_Kong:20260420T221006
DTSTART;TZID=Asia/Hong_Kong:20251013T110000
DTEND;TZID=Asia/Hong_Kong:20251013T160000
LOCATION:SSC Hub
SUMMARY:Qile Cake Charity Sale for Haven of Hope Elderly Services
UID:45424
END:VEVENT
BEGIN:VEVENT
DTSTAMP;TZID=Asia/Hong_Kong:20260420T221006
DTSTART;TZID=Asia/Hong_Kong:20251014T110000
DTEND;TZID=Asia/Hong_Kong:20251014T160000
LOCATION:SSC Hub
SUMMARY:Qile Cake Charity Sale for Haven of Hope Elderly Services
UID:45424
END:VEVENT
END:VCALENDAR