BEGIN:VCALENDAR
PRODID:-//HKUST Drupal Platform//EN
VERSION:2.0
BEGIN:VTIMEZONE
TZID:Asia/Hong_Kong
BEGIN:STANDARD
DTSTART:20071104T020000
TZOFFSETFROM:+0700
TZOFFSETTO:+0800
TZNAME:HKT
END:STANDARD
END:VTIMEZONE
BEGIN:VEVENT
DTSTAMP;TZID=Asia/Hong_Kong:20260420T153656
DTSTART;TZID=Asia/Hong_Kong:20251107T163000
DTEND;TZID=Asia/Hong_Kong:20251107T180000
LOCATION:Lecture Theater J
SUMMARY:CBE Colloquia   - Targeting PARP Biology Beyond Cancer: Biomolecular Condensates, Infection, and Neurodegeneration
UID:45419
END:VEVENT
END:VCALENDAR