BEGIN:VCALENDAR
PRODID:-//HKUST Drupal Platform//EN
VERSION:2.0
BEGIN:VTIMEZONE
TZID:Asia/Hong_Kong
BEGIN:STANDARD
DTSTART:20071104T020000
TZOFFSETFROM:+0700
TZOFFSETTO:+0800
TZNAME:HKT
END:STANDARD
END:VTIMEZONE
BEGIN:VEVENT
DTSTAMP;TZID=Asia/Hong_Kong:20260420T153658
DTSTART;TZID=Asia/Hong_Kong:20251010T143000
DTEND;TZID=Asia/Hong_Kong:20251010T153000
LOCATION:Room 4503, 4/F (Lifts 25-26), Academic Building
SUMMARY:Department of Chemistry Seminar - New analytical instruments and concepts based on resonance-enhanced laser mass spectrometry for trace pollutant analysis in marine science
UID:45407
END:VEVENT
END:VCALENDAR