BEGIN:VCALENDAR
PRODID:-//HKUST Drupal Platform//EN
VERSION:2.0
BEGIN:VTIMEZONE
TZID:Asia/Hong_Kong
BEGIN:STANDARD
DTSTART:20071104T020000
TZOFFSETFROM:+0700
TZOFFSETTO:+0800
TZNAME:HKT
END:STANDARD
END:VTIMEZONE
BEGIN:VEVENT
DTSTAMP;TZID=Asia/Hong_Kong:20260420T193953
DTSTART;TZID=Asia/Hong_Kong:20251121T150000
DTEND;TZID=Asia/Hong_Kong:20251121T180000
LOCATION:Room 2550 + Room 2551 (Lifts 27-28), 2/F Academic Building, HKUST
SUMMARY:MPhil in Mechanical Engineering - A Novel Stacking and Folding Technique for Simplified Manufacturing of High-Strain, Low-Voltage Dielectric Elastomer Actuators
UID:45403
END:VEVENT
END:VCALENDAR